BEGIN:VCALENDAR
VERSION:2.0
PRODID:-//ZContent.net//ZapCalLib 1.0//EN
CALSCALE:GREGORIAN
METHOD:PUBLISH
BEGIN:VEVENT
UID:69e610ca24356@usbands.org
SUMMARY:Pequannock Township High School
DTSTART:20221001T143500
DTEND:20221001T151700
DTSTAMP:20260420T114058
LOCATION:Pompton Plains\, NJ
DESCRIPTION:Pequannock Township High School
END:VEVENT
END:VCALENDAR
