BEGIN:VCALENDAR
VERSION:2.0
PRODID:-//ZContent.net//ZapCalLib 1.0//EN
CALSCALE:GREGORIAN
METHOD:PUBLISH
BEGIN:VEVENT
UID:69e610c9b39fe@usbands.org
SUMMARY:South Brunswick High School
DTSTART:20220924T115000
DTEND:20220924T131800
DTSTAMP:20260420T114057
LOCATION:South Brunswick\, NJ
DESCRIPTION:South Brunswick High School
END:VEVENT
END:VCALENDAR
