BEGIN:VCALENDAR
VERSION:2.0
PRODID:-//ZContent.net//ZapCalLib 1.0//EN
CALSCALE:GREGORIAN
METHOD:PUBLISH
BEGIN:VEVENT
UID:69e623b04f970@usbands.org
SUMMARY:Jackson Memorial High School - Postponed from 10/1
DTSTART:20221023T095000
DTEND:20221023T181900
DTSTAMP:20260420T130136
LOCATION:Jackson Township\, NJ
DESCRIPTION:Jackson Memorial High School - Postponed from 10/1
END:VEVENT
END:VCALENDAR
