BEGIN:VCALENDAR
VERSION:2.0
PRODID:-//ZContent.net//ZapCalLib 1.0//EN
CALSCALE:GREGORIAN
METHOD:PUBLISH
BEGIN:VEVENT
UID:69e623b04debc@usbands.org
SUMMARY:Absegami High School
DTSTART:20220924T150000
DTEND:20220924T180000
DTSTAMP:20260420T130136
LOCATION:Galloway\, NJ
DESCRIPTION:Absegami High School
END:VEVENT
END:VCALENDAR
