BEGIN:VCALENDAR
VERSION:2.0
PRODID:-//ZContent.net//ZapCalLib 1.0//EN
CALSCALE:GREGORIAN
METHOD:PUBLISH
BEGIN:VEVENT
UID:69e610ccec2e7@usbands.org
SUMMARY:Norwich Free Academy - (Postponed from 10/1)
DTSTART:20221007T155000
DTEND:20221007T180200
DTSTAMP:20260420T114100
LOCATION:Norwich\, CT
DESCRIPTION:Norwich Free Academy - (Postponed from 10/1)
END:VEVENT
END:VCALENDAR
