BEGIN:VCALENDAR
VERSION:2.0
PRODID:-//ZContent.net//ZapCalLib 1.0//EN
CALSCALE:GREGORIAN
METHOD:PUBLISH
BEGIN:VEVENT
UID:69e623b04d5d2@usbands.org
SUMMARY:Central Bucks High School South
DTSTART:20221001T150000
DTEND:20221001T181100
DTSTAMP:20260420T130136
LOCATION:Warrington\, PA
DESCRIPTION:Central Bucks High School South
END:VEVENT
END:VCALENDAR
