BEGIN:VCALENDAR
VERSION:2.0
PRODID:-//ZContent.net//ZapCalLib 1.0//EN
CALSCALE:GREGORIAN
METHOD:PUBLISH
BEGIN:VEVENT
UID:69e6292a06592@usbands.org
SUMMARY:Ramsey High School
DTSTART:20221001T145000
DTEND:20221001T181100
DTSTAMP:20260420T132458
LOCATION:Ramsey\, NJ
DESCRIPTION:Ramsey High School
END:VEVENT
END:VCALENDAR
