BEGIN:VCALENDAR
VERSION:2.0
PRODID:-//ZContent.net//ZapCalLib 1.0//EN
CALSCALE:GREGORIAN
METHOD:PUBLISH
BEGIN:VEVENT
UID:69e610c7afea6@usbands.org
SUMMARY:Lenape High School
DTSTART:20221001T145000
DTEND:20221001T061700
DTSTAMP:20260420T114055
LOCATION:Medford\, NJ
DESCRIPTION:Lenape High School
END:VEVENT
END:VCALENDAR
