BEGIN:VCALENDAR
VERSION:2.0
PRODID:-//ZContent.net//ZapCalLib 1.0//EN
CALSCALE:GREGORIAN
METHOD:PUBLISH
BEGIN:VEVENT
UID:69e610cc0ef47@usbands.org
SUMMARY:King Philip High School
DTSTART:20221008T145000
DTEND:20221008T180900
DTSTAMP:20260420T114100
LOCATION:Wrentham\, MA
DESCRIPTION:King Philip High School
END:VEVENT
END:VCALENDAR
