BEGIN:VCALENDAR
VERSION:2.0
PRODID:-//ZContent.net//ZapCalLib 1.0//EN
CALSCALE:GREGORIAN
METHOD:PUBLISH
BEGIN:VEVENT
UID:69e623b053d26@usbands.org
SUMMARY:Leonardtown High School
DTSTART:20221008T115000
DTEND:20221008T141300
DTSTAMP:20260420T130136
LOCATION:Leonardtown\, MD
DESCRIPTION:Leonardtown High School
END:VEVENT
END:VCALENDAR
