BEGIN:VCALENDAR
VERSION:2.0
PRODID:-//ZContent.net//ZapCalLib 1.0//EN
CALSCALE:GREGORIAN
METHOD:PUBLISH
BEGIN:VEVENT
UID:69e610cdd68ca@usbands.org
SUMMARY:Perkiomen Valley High School
DTSTART:20221008T145000
DTEND:20221008T171300
DTSTAMP:20260420T114101
LOCATION:Collegeville\, PA
DESCRIPTION:Perkiomen Valley High School
END:VEVENT
END:VCALENDAR
