BEGIN:VCALENDAR
VERSION:2.0
PRODID:-//ZContent.net//ZapCalLib 1.0//EN
CALSCALE:GREGORIAN
METHOD:PUBLISH
BEGIN:VEVENT
UID:69e610c94420b@usbands.org
SUMMARY:North Brunswick High School
DTSTART:20221008T145000
DTEND:20221008T181500
DTSTAMP:20260420T114057
LOCATION:North Brunswick Township\, NJ
DESCRIPTION:North Brunswick High School
END:VEVENT
END:VCALENDAR
