BEGIN:VCALENDAR
VERSION:2.0
PRODID:-//ZContent.net//ZapCalLib 1.0//EN
CALSCALE:GREGORIAN
METHOD:PUBLISH
BEGIN:VEVENT
UID:69e610c8028e6@usbands.org
SUMMARY:Hopewell Valley High School
DTSTART:20220917T115000
DTEND:20220917T170000
DTSTAMP:20260420T114056
LOCATION:Pennington\, NJ
DESCRIPTION:Hopewell Valley High School
END:VEVENT
END:VCALENDAR
