BEGIN:VCALENDAR
VERSION:2.0
PRODID:-//ZContent.net//ZapCalLib 1.0//EN
CALSCALE:GREGORIAN
METHOD:PUBLISH
BEGIN:VEVENT
UID:69e610c7eb2dd@usbands.org
SUMMARY:Lyman Hall High School
DTSTART:20221015T115000
DTEND:20221015T181700
DTSTAMP:20260420T114055
LOCATION:Wallingford\, CT
DESCRIPTION:Lyman Hall High School
END:VEVENT
END:VCALENDAR
