BEGIN:VCALENDAR
VERSION:2.0
PRODID:-//ZContent.net//ZapCalLib 1.0//EN
CALSCALE:GREGORIAN
METHOD:PUBLISH
BEGIN:VEVENT
UID:69e610c89d646@usbands.org
SUMMARY:Bridgewater-Raynham High School & Stoughton POPS
DTSTART:20221015T145000
DTEND:20221015T191800
DTSTAMP:20260420T114056
LOCATION:Bridgewater\, MA
DESCRIPTION:Bridgewater-Raynham High School & Stoughton POPS
END:VEVENT
END:VCALENDAR
