BEGIN:VCALENDAR
VERSION:2.0
PRODID:-//ZContent.net//ZapCalLib 1.0//EN
CALSCALE:GREGORIAN
METHOD:PUBLISH
BEGIN:VEVENT
UID:69e610cbbfd16@usbands.org
SUMMARY:North Penn High School
DTSTART:20221015T145000
DTEND:20221015T181900
DTSTAMP:20260420T114059
LOCATION:Lansdale\, PA
DESCRIPTION:North Penn High School
END:VEVENT
END:VCALENDAR
