BEGIN:VCALENDAR
VERSION:2.0
PRODID:-//ZContent.net//ZapCalLib 1.0//EN
CALSCALE:GREGORIAN
METHOD:PUBLISH
BEGIN:VEVENT
UID:69e610c7991da@usbands.org
SUMMARY:Unionville High School
DTSTART:20221015T145000
DTEND:20221015T181900
DTSTAMP:20260420T114055
LOCATION:Kennet Square\, PA
DESCRIPTION:Unionville High School
END:VEVENT
END:VCALENDAR
