BEGIN:VCALENDAR
VERSION:2.0
PRODID:-//ZContent.net//ZapCalLib 1.0//EN
CALSCALE:GREGORIAN
METHOD:PUBLISH
BEGIN:VEVENT
UID:69e610c746856@usbands.org
SUMMARY:Northern Highlands High School
DTSTART:20221015T135000
DTEND:20221015T102000
DTSTAMP:20260420T114055
LOCATION:Allendale\, NJ
DESCRIPTION:Northern Highlands High School
END:VEVENT
END:VCALENDAR
