BEGIN:VCALENDAR
VERSION:2.0
PRODID:-//ZContent.net//ZapCalLib 1.0//EN
CALSCALE:GREGORIAN
METHOD:PUBLISH
BEGIN:VEVENT
UID:69e610cc244e0@usbands.org
SUMMARY:Lenape Valley Regional High School
DTSTART:20221015T145000
DTEND:20221015T182100
DTSTAMP:20260420T114100
LOCATION:Stanhope\, NJ
DESCRIPTION:Lenape Valley Regional High School
END:VEVENT
END:VCALENDAR
