BEGIN:VCALENDAR
VERSION:2.0
PRODID:-//ZContent.net//ZapCalLib 1.0//EN
CALSCALE:GREGORIAN
METHOD:PUBLISH
BEGIN:VEVENT
UID:69e610cb4eef7@usbands.org
SUMMARY:Somerville High School
DTSTART:20221015T115000
DTEND:20221015T172200
DTSTAMP:20260420T114059
LOCATION:Somerville\, NJ
DESCRIPTION:Somerville High School
END:VEVENT
END:VCALENDAR
