BEGIN:VCALENDAR
VERSION:2.0
PRODID:-//ZContent.net//ZapCalLib 1.0//EN
CALSCALE:GREGORIAN
METHOD:PUBLISH
BEGIN:VEVENT
UID:69e610cbd56c1@usbands.org
SUMMARY:Hightstown High School
DTSTART:20221015T145000
DTEND:20221015T102200
DTSTAMP:20260420T114059
LOCATION:Hightstown\, NJ
DESCRIPTION:Hightstown High School
END:VEVENT
END:VCALENDAR
