BEGIN:VCALENDAR
VERSION:2.0
PRODID:-//ZContent.net//ZapCalLib 1.0//EN
CALSCALE:GREGORIAN
METHOD:PUBLISH
BEGIN:VEVENT
UID:69e623c5dcccc@usbands.org
SUMMARY:Southington High School
DTSTART:20221022T114500
DTEND:20221022T142300
DTSTAMP:20260420T130157
LOCATION:Southington\, CT
DESCRIPTION:Southington High School
END:VEVENT
END:VCALENDAR
