BEGIN:VCALENDAR
VERSION:2.0
PRODID:-//ZContent.net//ZapCalLib 1.0//EN
CALSCALE:GREGORIAN
METHOD:PUBLISH
BEGIN:VEVENT
UID:69e623b04fb0d@usbands.org
SUMMARY:Robert E. Fitch High School
DTSTART:20221022T115000
DTEND:20221022T182400
DTSTAMP:20260420T130136
LOCATION:Groton\, CT
DESCRIPTION:Robert E. Fitch High School
END:VEVENT
END:VCALENDAR
