BEGIN:VCALENDAR
VERSION:2.0
PRODID:-//ZContent.net//ZapCalLib 1.0//EN
CALSCALE:GREGORIAN
METHOD:PUBLISH
BEGIN:VEVENT
UID:69e610cd95963@usbands.org
SUMMARY:Frank Scott Bunnell High School
DTSTART:20221022T115000
DTEND:20221022T102400
DTSTAMP:20260420T114101
LOCATION:Stratford\, CT
DESCRIPTION:Frank Scott Bunnell High School
END:VEVENT
END:VCALENDAR
