BEGIN:VCALENDAR
VERSION:2.0
PRODID:-//ZContent.net//ZapCalLib 1.0//EN
CALSCALE:GREGORIAN
METHOD:PUBLISH
BEGIN:VEVENT
UID:69e610ce68d88@usbands.org
SUMMARY:Cranston High School East
DTSTART:20221022T145000
DTEND:20221022T182500
DTSTAMP:20260420T114102
LOCATION:Cranston\, RI
DESCRIPTION:Cranston High School East
END:VEVENT
END:VCALENDAR
