BEGIN:VCALENDAR
VERSION:2.0
PRODID:-//ZContent.net//ZapCalLib 1.0//EN
CALSCALE:GREGORIAN
METHOD:PUBLISH
BEGIN:VEVENT
UID:69e610c902589@usbands.org
SUMMARY:Ridge High School
DTSTART:20221022T125000
DTEND:20221022T182700
DTSTAMP:20260420T114057
LOCATION:Basking Ridge\, NJ
DESCRIPTION:Ridge High School
END:VEVENT
END:VCALENDAR
