BEGIN:VCALENDAR
VERSION:2.0
PRODID:-//ZContent.net//ZapCalLib 1.0//EN
CALSCALE:GREGORIAN
METHOD:PUBLISH
BEGIN:VEVENT
UID:69e610c92ea20@usbands.org
SUMMARY:Robbinsville High School
DTSTART:20221022T115000
DTEND:20221022T192700
DTSTAMP:20260420T114057
LOCATION:Robbinsville\, NJ
DESCRIPTION:Robbinsville High School
END:VEVENT
END:VCALENDAR
