BEGIN:VCALENDAR
VERSION:2.0
PRODID:-//ZContent.net//ZapCalLib 1.0//EN
CALSCALE:GREGORIAN
METHOD:PUBLISH
BEGIN:VEVENT
UID:69e610c99e5c2@usbands.org
SUMMARY:Egg Harbor Township High School
DTSTART:20221022T145000
DTEND:20221022T192800
DTSTAMP:20260420T114057
LOCATION:Egg Harbor\, NJ
DESCRIPTION:Egg Harbor Township High School
END:VEVENT
END:VCALENDAR
