BEGIN:VCALENDAR
VERSION:2.0
PRODID:-//ZContent.net//ZapCalLib 1.0//EN
CALSCALE:GREGORIAN
METHOD:PUBLISH
BEGIN:VEVENT
UID:69e610c8177ef@usbands.org
SUMMARY:Bergenfield High School
DTSTART:20221009T095000
DTEND:20221009T182900
DTSTAMP:20260420T114056
LOCATION:Bergenfield\, NJ
DESCRIPTION:Bergenfield High School
END:VEVENT
END:VCALENDAR
