BEGIN:VCALENDAR
VERSION:2.0
PRODID:-//ZContent.net//ZapCalLib 1.0//EN
CALSCALE:GREGORIAN
METHOD:PUBLISH
BEGIN:VEVENT
UID:69e610c8b3286@usbands.org
SUMMARY:Passaic Valley High School
DTSTART:20220917T115000
DTEND:20220917T170000
DTSTAMP:20260420T114056
LOCATION:Little Falls\, NJ
DESCRIPTION:Passaic Valley High School
END:VEVENT
END:VCALENDAR
