BEGIN:VCALENDAR
VERSION:2.0
PRODID:-//ZContent.net//ZapCalLib 1.0//EN
CALSCALE:GREGORIAN
METHOD:PUBLISH
BEGIN:VEVENT
UID:69e610c8cb0c8@usbands.org
SUMMARY:Mechanicsburg High School
DTSTART:20220924T145000
DTEND:20220924T180100
DTSTAMP:20260420T114056
LOCATION:Mechanicsburg\, PA
DESCRIPTION:Mechanicsburg High School
END:VEVENT
END:VCALENDAR
