BEGIN:VCALENDAR
VERSION:2.0
PRODID:-//ZContent.net//ZapCalLib 1.0//EN
CALSCALE:GREGORIAN
METHOD:PUBLISH
BEGIN:VEVENT
UID:69e610cb91dcf@usbands.org
SUMMARY:Hanover Park High School
DTSTART:20220924T115000
DTEND:20220924T154400
DTSTAMP:20260420T114059
LOCATION:East Hanover\, NJ
DESCRIPTION:Hanover Park High School
END:VEVENT
END:VCALENDAR
