BEGIN:VCALENDAR
VERSION:2.0
PRODID:-//ZContent.net//ZapCalLib 1.0//EN
CALSCALE:GREGORIAN
METHOD:PUBLISH
BEGIN:VEVENT
UID:69e610cd7e3a2@usbands.org
SUMMARY:Hunterdon Central Regional High School
DTSTART:20220924T115000
DTEND:20220924T154700
DTSTAMP:20260420T114101
LOCATION:Flemington\, NJ
DESCRIPTION:Hunterdon Central Regional High School
END:VEVENT
END:VCALENDAR
