BEGIN:VCALENDAR
VERSION:2.0
PRODID:-//ZContent.net//ZapCalLib 1.0//EN
CALSCALE:GREGORIAN
METHOD:PUBLISH
BEGIN:VEVENT
UID:69e610ca44e98@usbands.org
SUMMARY:USBands Saginaw Regional
DTSTART:20220924T080000
DTEND:20220924T210000
DTSTAMP:20260420T114058
LOCATION:Saginaw\, TX
DESCRIPTION:USBands Saginaw Regional
END:VEVENT
END:VCALENDAR
