BEGIN:VCALENDAR
VERSION:2.0
PRODID:-//ZContent.net//ZapCalLib 1.0//EN
CALSCALE:GREGORIAN
METHOD:PUBLISH
BEGIN:VEVENT
UID:69e6267df38bb@usbands.org
SUMMARY:USBands Madisonville Showcase & Clinic
DTSTART:20220924T080000
DTEND:20220924T210000
DTSTAMP:20260420T131333
LOCATION:Madisonville\, TX
DESCRIPTION:USBands Madisonville Showcase & Clinic
END:VEVENT
END:VCALENDAR
