BEGIN:VCALENDAR
VERSION:2.0
PRODID:-//ZContent.net//ZapCalLib 1.0//EN
CALSCALE:GREGORIAN
METHOD:PUBLISH
BEGIN:VEVENT
UID:69e623943b8ce@usbands.org
SUMMARY:USBands Baytown Showcase
DTSTART:20220924T090000
DTEND:20220924T210000
DTSTAMP:20260420T130108
LOCATION:Baytown\, TX
DESCRIPTION:USBands Baytown Showcase
END:VEVENT
END:VCALENDAR
