BEGIN:VCALENDAR
VERSION:2.0
PRODID:-//ZContent.net//ZapCalLib 1.0//EN
CALSCALE:GREGORIAN
METHOD:PUBLISH
BEGIN:VEVENT
UID:69e610cf107bb@usbands.org
SUMMARY:USBands Houston Regional
DTSTART:20221001T060000
DTEND:20221001T210000
DTSTAMP:20260420T114103
LOCATION:Webster\, TX
DESCRIPTION:USBands Houston Regional
END:VEVENT
END:VCALENDAR
