BEGIN:VCALENDAR
VERSION:2.0
PRODID:-//ZContent.net//ZapCalLib 1.0//EN
CALSCALE:GREGORIAN
METHOD:PUBLISH
BEGIN:VEVENT
UID:69e610cc67095@usbands.org
SUMMARY:USBands Goliad Showcase & Clinic
DTSTART:20221001T070000
DTEND:20221001T210000
DTSTAMP:20260420T114100
LOCATION:Goliad\, TX
DESCRIPTION:USBands Goliad Showcase & Clinic
END:VEVENT
END:VCALENDAR
