BEGIN:VCALENDAR
VERSION:2.0
PRODID:-//ZContent.net//ZapCalLib 1.0//EN
CALSCALE:GREGORIAN
METHOD:PUBLISH
BEGIN:VEVENT
UID:69e610cd0e719@usbands.org
SUMMARY:USBands Hill Country Regional
DTSTART:20221001T060000
DTEND:20221001T210000
DTSTAMP:20260420T114101
LOCATION:San Antonio\, TX
DESCRIPTION:USBands Hill Country Regional
END:VEVENT
END:VCALENDAR
