BEGIN:VCALENDAR
VERSION:2.0
PRODID:-//ZContent.net//ZapCalLib 1.0//EN
CALSCALE:GREGORIAN
METHOD:PUBLISH
BEGIN:VEVENT
UID:69e610c7379f8@usbands.org
SUMMARY:USBands Dallas Regional
DTSTART:20221001T100000
DTEND:20221001T210000
DTSTAMP:20260420T114055
LOCATION:Fort Worth\, TX
DESCRIPTION:USBands Dallas Regional
END:VEVENT
END:VCALENDAR
