BEGIN:VCALENDAR
VERSION:2.0
PRODID:-//ZContent.net//ZapCalLib 1.0//EN
CALSCALE:GREGORIAN
METHOD:PUBLISH
BEGIN:VEVENT
UID:69e610cba998a@usbands.org
SUMMARY:USBands Burleson Regional
DTSTART:20221008T083000
DTEND:20221008T210000
DTSTAMP:20260420T114059
LOCATION:Burleson\, TX
DESCRIPTION:USBands Burleson Regional
END:VEVENT
END:VCALENDAR
