BEGIN:VCALENDAR
VERSION:2.0
PRODID:-//ZContent.net//ZapCalLib 1.0//EN
CALSCALE:GREGORIAN
METHOD:PUBLISH
BEGIN:VEVENT
UID:69e610cb65152@usbands.org
SUMMARY:The Ludwig Musser Classic - Texas Edition
DTSTART:20221008T063000
DTEND:20221008T203000
DTSTAMP:20260420T114059
LOCATION:Converse\, TX
DESCRIPTION:The Ludwig Musser Classic - Texas Edition
END:VEVENT
END:VCALENDAR
