BEGIN:VCALENDAR
VERSION:2.0
PRODID:-//ZContent.net//ZapCalLib 1.0//EN
CALSCALE:GREGORIAN
METHOD:PUBLISH
BEGIN:VEVENT
UID:69e623b07a508@usbands.org
SUMMARY:USBands Austin Regional
DTSTART:20221008T083000
DTEND:20221008T210000
DTSTAMP:20260420T130136
LOCATION:Buda\, TX
DESCRIPTION:USBands Austin Regional
END:VEVENT
END:VCALENDAR
