BEGIN:VCALENDAR
VERSION:2.0
PRODID:-//ZContent.net//ZapCalLib 1.0//EN
CALSCALE:GREGORIAN
METHOD:PUBLISH
BEGIN:VEVENT
UID:69e623b094ba5@usbands.org
SUMMARY:USBands Houston Finale
DTSTART:20221105T090000
DTEND:20221105T210000
DTSTAMP:20260420T130136
LOCATION:Houston\, TX
DESCRIPTION:USBands Houston Finale
END:VEVENT
END:VCALENDAR
