BEGIN:VCALENDAR
VERSION:2.0
PRODID:-//ZContent.net//ZapCalLib 1.0//EN
CALSCALE:GREGORIAN
METHOD:PUBLISH
BEGIN:VEVENT
UID:69e610cdee7a6@usbands.org
SUMMARY:The Ludwig Musser Classic
DTSTART:20221008T050000
DTEND:20221008T200000
DTSTAMP:20260420T114101
LOCATION:East Rutherford\, NJ
DESCRIPTION:The Ludwig Musser Classic
END:VEVENT
END:VCALENDAR
