BEGIN:VCALENDAR
VERSION:2.0
PRODID:-//ZContent.net//ZapCalLib 1.0//EN
CALSCALE:GREGORIAN
METHOD:PUBLISH
BEGIN:VEVENT
UID:69e610cdaa54c@usbands.org
SUMMARY:Quad States Regional Championships
DTSTART:20221015T100000
DTEND:20221015T170100
DTSTAMP:20260420T114101
LOCATION:Vermillion\, SD
DESCRIPTION:Quad States Regional Championships
END:VEVENT
END:VCALENDAR
