BEGIN:VCALENDAR
VERSION:2.0
PRODID:-//ZContent.net//ZapCalLib 1.0//EN
CALSCALE:GREGORIAN
METHOD:PUBLISH
BEGIN:VEVENT
UID:69e610c7e14b2@usbands.org
SUMMARY:Pennsylvania State Championships
DTSTART:20221022T110000
DTEND:20221022T200000
DTSTAMP:20260420T114055
LOCATION:Downingtown\, PA
DESCRIPTION:Pennsylvania State Championships
END:VEVENT
END:VCALENDAR
