BEGIN:VCALENDAR
VERSION:2.0
PRODID:-//ZContent.net//ZapCalLib 1.0//EN
CALSCALE:GREGORIAN
METHOD:PUBLISH
BEGIN:VEVENT
UID:69e610c8dfcd2@usbands.org
SUMMARY:USBands New York Regional Championships
DTSTART:20221023T090000
DTEND:20221023T190000
DTSTAMP:20260420T114056
LOCATION:Lindenhurst\, NY
DESCRIPTION:USBands New York Regional Championships
END:VEVENT
END:VCALENDAR
