BEGIN:VCALENDAR
VERSION:2.0
PRODID:-//ZContent.net//ZapCalLib 1.0//EN
CALSCALE:GREGORIAN
METHOD:PUBLISH
BEGIN:VEVENT
UID:69e6239440dd9@usbands.org
SUMMARY:Maryland & Virginia State Championships
DTSTART:20221022T080000
DTEND:20221022T190000
DTSTAMP:20260420T130108
LOCATION:Towson\, MD
DESCRIPTION:Maryland & Virginia State Championships
END:VEVENT
END:VCALENDAR
