BEGIN:VCALENDAR
VERSION:2.0
PRODID:-//ZContent.net//ZapCalLib 1.0//EN
CALSCALE:GREGORIAN
METHOD:PUBLISH
BEGIN:VEVENT
UID:69e623b0ab994@usbands.org
SUMMARY:New Jersey State Championships (I A\, II A\, IV O)
DTSTART:20221029T060000
DTEND:20221029T190000
DTSTAMP:20260420T130136
LOCATION:Hillsborough Township\, NJ
DESCRIPTION:New Jersey State Championships (I A\, II A\, IV O)
END:VEVENT
END:VCALENDAR
